View In:
ArcGIS JavaScript
ArcGIS Online Map Viewer
ArcGIS Earth
Service Description: Aerial24TC
Name: Aerial24TC
Description:
Single Fused Map Cache: false
Extent:
XMin: -8754412.872965114
YMin: 4899529.653450055
XMax: -8694714.65814623
YMax: 4975257.73573927
Spatial Reference: 102100
(3857)
LatestVCSWkid(0)
Initial Extent:
XMin: -8754412.872965114
YMin: 4899529.653450055
XMax: -8694714.65814623
YMax: 4975257.73573927
Spatial Reference: 102100
(3857)
LatestVCSWkid(0)
Full Extent:
XMin: -8754412.872965114
YMin: 4899529.653450055
XMax: -8694714.65814623
YMax: 4975257.73573927
Spatial Reference: 102100
(3857)
LatestVCSWkid(0)
Pixel Size X: 0.03732276770595262
Pixel Size Y: 0.03732276770595202
Band Count: 3
Pixel Type: U8
RasterFunction Infos: {"rasterFunctionInfos": [{
"name": "None",
"description": "",
"help": ""
}]}
Mensuration Capabilities: Basic
Inspection Capabilities:
Has Histograms: false
Has Colormap: false
Has Multi Dimensions : false
Rendering Rule:
Min Scale: 5.91657527591555E8
Max Scale: 1128.497176
Resampling: false
Copyright Text:
Service Data Type: esriImageServiceDataTypeRGB
Min Values: N/A
Max Values: N/A
Mean Values: N/A
Standard Deviation Values: N/A
Object ID Field:
Fields:
None
Default Mosaic Method: Center
Allowed Mosaic Methods:
SortField:
SortValue: null
Mosaic Operator: First
Default Compression Quality: 75
Default Resampling Method: Bilinear
Max Record Count: null
Max Image Height: 4100
Max Image Width: 15000
Max Download Image Count: null
Max Mosaic Image Count: null
Allow Raster Function: true
Allow Copy: true
Allow Analysis: false
Allow Compute TiePoints: false
Supports Statistics: false
Supports Advanced Queries: false
Use StandardizedQueries: true
Raster Type Infos:
Name: Raster Dataset
Description: Supports all ArcGIS Raster Datasets
Help:
Has Raster Attribute Table: false
Edit Fields Info: null
Ownership Based AccessControl For Rasters: null
Child Resources:
Info
Statistics
Key Properties
Legend
Raster Function Infos
Supported Operations:
Export Image
Identify
Measure
Compute Histograms
Compute Statistics Histograms
Get Samples
Compute Class Statistics
Query Boundary
Compute Pixel Location
Compute Angles
Validate
Project
EstimateExportTilesSize
ExportTiles